Package: cellxgenedp Version: 1.4.1 Command: /Library/Frameworks/R.framework/Resources/bin/R CMD build --keep-empty-dirs --no-resave-data cellxgenedp StartedAt: 2023-10-15 17:18:01 -0400 (Sun, 15 Oct 2023) EndedAt: 2023-10-15 17:19:13 -0400 (Sun, 15 Oct 2023) EllapsedTime: 72.0 seconds RetCode: 0 Status: OK PackageFile: cellxgenedp_1.4.1.tar.gz PackageFileSize: 245 KiB