Package: cellxgenedp Version: 1.4.1 Command: rm -rf cellxgenedp.buildbin-libdir && mkdir cellxgenedp.buildbin-libdir && /Users/biocbuild/BBS/utils/build-universal.sh cellxgenedp_1.4.1.tar.gz /Library/Frameworks/R.framework/Resources/bin/R cellxgenedp.buildbin-libdir StartedAt: 2023-10-16 09:06:46 -0400 (Mon, 16 Oct 2023) EndedAt: 2023-10-16 09:07:02 -0400 (Mon, 16 Oct 2023) EllapsedTime: 15.9 seconds RetCode: 0 Status: OK PackageFile: cellxgenedp_1.4.1.tgz PackageFileSize: 285 KiB