Package: cellscape Version: 1.24.0 Command: /home/biocbuild/bbs-3.17-bioc/R/bin/R CMD INSTALL cellscape StartedAt: 2023-10-15 15:28:48 -0400 (Sun, 15 Oct 2023) EndedAt: 2023-10-15 15:28:50 -0400 (Sun, 15 Oct 2023) EllapsedTime: 2.5 seconds RetCode: 0 Status: OK