Package: cellscape Version: 1.24.0 Command: rm -rf cellscape.buildbin-libdir && mkdir cellscape.buildbin-libdir && /Users/biocbuild/BBS/utils/build-universal.sh cellscape_1.24.0.tar.gz /Library/Frameworks/R.framework/Resources/bin/R cellscape.buildbin-libdir StartedAt: 2023-10-16 09:06:35 -0400 (Mon, 16 Oct 2023) EndedAt: 2023-10-16 09:06:47 -0400 (Mon, 16 Oct 2023) EllapsedTime: 11.5 seconds RetCode: 0 Status: OK PackageFile: cellscape_1.24.0.tgz PackageFileSize: 884.7 KiB