Package: cellity Version: 1.28.0 Command: F:\biocbuild\bbs-3.17-bioc\R\bin\R.exe CMD check --no-multiarch --install=check:cellity.install-out.txt --library=F:\biocbuild\bbs-3.17-bioc\R\library --no-vignettes --timings cellity_1.28.0.tar.gz StartedAt: 2023-10-16 00:24:34 -0400 (Mon, 16 Oct 2023) EndedAt: 2023-10-16 00:27:22 -0400 (Mon, 16 Oct 2023) EllapsedTime: 168.3 seconds RetCode: 0 Status: OK CheckDir: cellity.Rcheck Warnings: 0