Package: cellity Version: 1.28.0 Command: chmod a+r cellity -R && F:\biocbuild\bbs-3.17-bioc\R\bin\R.exe CMD build --keep-empty-dirs --no-resave-data cellity StartedAt: 2023-10-15 17:58:21 -0400 (Sun, 15 Oct 2023) EndedAt: 2023-10-15 18:00:28 -0400 (Sun, 15 Oct 2023) EllapsedTime: 127.8 seconds RetCode: 0 Status: OK PackageFile: cellity_1.28.0.tar.gz PackageFileSize: 1.071 MiB