Package: cellity Version: 1.28.0 Command: rm -rf cellity.buildbin-libdir && mkdir cellity.buildbin-libdir && F:\biocbuild\bbs-3.17-bioc\R\bin\R.exe CMD INSTALL --build --library=cellity.buildbin-libdir cellity_1.28.0.tar.gz StartedAt: 2023-10-16 08:32:59 -0400 (Mon, 16 Oct 2023) EndedAt: 2023-10-16 08:33:23 -0400 (Mon, 16 Oct 2023) EllapsedTime: 23.8 seconds RetCode: 0 Status: OK PackageFile: cellity_1.28.0.zip PackageFileSize: 1.274 MiB