Package: cellity Version: 1.28.0 Command: /home/biocbuild/bbs-3.17-bioc/R/bin/R CMD check --install=check:cellity.install-out.txt --library=/home/biocbuild/bbs-3.17-bioc/R/site-library --timings cellity_1.28.0.tar.gz StartedAt: 2023-10-15 19:56:40 -0400 (Sun, 15 Oct 2023) EndedAt: 2023-10-15 19:59:56 -0400 (Sun, 15 Oct 2023) EllapsedTime: 195.9 seconds RetCode: 0 Status: OK CheckDir: cellity.Rcheck Warnings: 0