Package: cellity Version: 1.28.0 Command: /home/biocbuild/bbs-3.17-bioc/R/bin/R CMD build --keep-empty-dirs --no-resave-data cellity StartedAt: 2023-10-15 16:13:48 -0400 (Sun, 15 Oct 2023) EndedAt: 2023-10-15 16:14:54 -0400 (Sun, 15 Oct 2023) EllapsedTime: 65.9 seconds RetCode: 0 Status: OK PackageFile: cellity_1.28.0.tar.gz PackageFileSize: 1.204 MiB