Package: cellity Version: 1.28.0 Command: /Library/Frameworks/R.framework/Resources/bin/R CMD INSTALL cellity StartedAt: 2023-10-15 15:28:58 -0400 (Sun, 15 Oct 2023) EndedAt: 2023-10-15 15:29:57 -0400 (Sun, 15 Oct 2023) EllapsedTime: 59.4 seconds RetCode: 0 Status: OK