Package: cellity Version: 1.28.0 Command: /Library/Frameworks/R.framework/Resources/bin/R CMD check --install=check:cellity.install-out.txt --library=/Library/Frameworks/R.framework/Resources/library --no-vignettes --timings cellity_1.28.0.tar.gz StartedAt: 2023-10-15 23:33:00 -0400 (Sun, 15 Oct 2023) EndedAt: 2023-10-15 23:39:12 -0400 (Sun, 15 Oct 2023) EllapsedTime: 372.4 seconds RetCode: 0 Status: OK CheckDir: cellity.Rcheck Warnings: 0