Package: cellHTS2 Version: 2.64.0 Command: /home/biocbuild/bbs-3.17-bioc/R/bin/R CMD check --install=check:cellHTS2.install-out.txt --library=/home/biocbuild/bbs-3.17-bioc/R/site-library --timings cellHTS2_2.64.0.tar.gz StartedAt: 2023-10-15 19:56:23 -0400 (Sun, 15 Oct 2023) EndedAt: 2023-10-15 20:04:54 -0400 (Sun, 15 Oct 2023) EllapsedTime: 510.3 seconds RetCode: 0 Status: WARNINGS CheckDir: cellHTS2.Rcheck Warnings: 1