Package: cellHTS2 Version: 2.64.0 Command: /Library/Frameworks/R.framework/Resources/bin/R CMD INSTALL cellHTS2 StartedAt: 2023-10-15 16:02:17 -0400 (Sun, 15 Oct 2023) EndedAt: 2023-10-15 16:04:06 -0400 (Sun, 15 Oct 2023) EllapsedTime: 109.1 seconds RetCode: 0 Status: OK