Package: cellHTS2 Version: 2.64.0 Command: /Library/Frameworks/R.framework/Resources/bin/R CMD check --install=check:cellHTS2.install-out.txt --library=/Library/Frameworks/R.framework/Resources/library --no-vignettes --timings cellHTS2_2.64.0.tar.gz StartedAt: 2023-10-15 23:32:28 -0400 (Sun, 15 Oct 2023) EndedAt: 2023-10-15 23:43:15 -0400 (Sun, 15 Oct 2023) EllapsedTime: 647.4 seconds RetCode: 0 Status: OK CheckDir: cellHTS2.Rcheck Warnings: 0