Package: cellHTS2 Version: 2.64.0 Command: /Library/Frameworks/R.framework/Resources/bin/R CMD build --keep-empty-dirs --no-resave-data cellHTS2 StartedAt: 2023-10-15 17:16:41 -0400 (Sun, 15 Oct 2023) EndedAt: 2023-10-15 17:24:48 -0400 (Sun, 15 Oct 2023) EllapsedTime: 486.6 seconds RetCode: 0 Status: OK PackageFile: cellHTS2_2.64.0.tar.gz PackageFileSize: 3.74 MiB