Package: celda Version: 1.16.1 Command: F:\biocbuild\bbs-3.17-bioc\R\bin\R.exe CMD INSTALL celda StartedAt: 2023-10-15 16:52:43 -0400 (Sun, 15 Oct 2023) EndedAt: 2023-10-15 16:54:23 -0400 (Sun, 15 Oct 2023) EllapsedTime: 100.4 seconds RetCode: 0 Status: OK