Package: celda Version: 1.16.1 Command: F:\biocbuild\bbs-3.17-bioc\R\bin\R.exe CMD check --no-multiarch --install=check:celda.install-out.txt --library=F:\biocbuild\bbs-3.17-bioc\R\library --no-vignettes --timings celda_1.16.1.tar.gz StartedAt: 2023-10-16 00:22:31 -0400 (Mon, 16 Oct 2023) EndedAt: 2023-10-16 00:30:22 -0400 (Mon, 16 Oct 2023) EllapsedTime: 471.8 seconds RetCode: 0 Status: OK CheckDir: celda.Rcheck Warnings: 0