Package: celda Version: 1.16.1 Command: rm -rf celda.buildbin-libdir && mkdir celda.buildbin-libdir && F:\biocbuild\bbs-3.17-bioc\R\bin\R.exe CMD INSTALL --build --library=celda.buildbin-libdir celda_1.16.1.tar.gz StartedAt: 2023-10-16 08:32:49 -0400 (Mon, 16 Oct 2023) EndedAt: 2023-10-16 08:34:27 -0400 (Mon, 16 Oct 2023) EllapsedTime: 98.8 seconds RetCode: 0 Status: OK PackageFile: celda_1.16.1.zip PackageFileSize: 2.675 MiB