Package: celda Version: 1.16.1 Command: /Library/Frameworks/R.framework/Resources/bin/R CMD INSTALL celda StartedAt: 2023-10-15 16:20:35 -0400 (Sun, 15 Oct 2023) EndedAt: 2023-10-15 16:24:22 -0400 (Sun, 15 Oct 2023) EllapsedTime: 226.9 seconds RetCode: 0 Status: OK