Package: celda Version: 1.16.1 Command: /Library/Frameworks/R.framework/Resources/bin/R CMD build --keep-empty-dirs --no-resave-data celda StartedAt: 2023-10-15 17:16:07 -0400 (Sun, 15 Oct 2023) EndedAt: 2023-10-15 17:27:03 -0400 (Sun, 15 Oct 2023) EllapsedTime: 655.3 seconds RetCode: 0 Status: OK PackageFile: celda_1.16.1.tar.gz PackageFileSize: 2.525 MiB