Package: celda Version: 1.16.1 Command: rm -rf celda.buildbin-libdir && mkdir celda.buildbin-libdir && /Users/biocbuild/BBS/utils/build-universal.sh celda_1.16.1.tar.gz /Library/Frameworks/R.framework/Resources/bin/R celda.buildbin-libdir StartedAt: 2023-10-16 09:05:52 -0400 (Mon, 16 Oct 2023) EndedAt: 2023-10-16 09:10:09 -0400 (Mon, 16 Oct 2023) EllapsedTime: 256.5 seconds RetCode: 0 Status: OK PackageFile: celda_1.16.1.tgz PackageFileSize: 3.379 MiB