Package: celaref Version: 1.18.0 Command: F:\biocbuild\bbs-3.17-bioc\R\bin\R.exe CMD check --no-multiarch --install=check:celaref.install-out.txt --library=F:\biocbuild\bbs-3.17-bioc\R\library --no-vignettes --timings celaref_1.18.0.tar.gz StartedAt: 2023-10-16 00:22:26 -0400 (Mon, 16 Oct 2023) EndedAt: 2023-10-16 00:26:23 -0400 (Mon, 16 Oct 2023) EllapsedTime: 236.7 seconds RetCode: 0 Status: OK CheckDir: celaref.Rcheck Warnings: 0