Package: celaref Version: 1.18.0 Command: rm -rf celaref.buildbin-libdir && mkdir celaref.buildbin-libdir && F:\biocbuild\bbs-3.17-bioc\R\bin\R.exe CMD INSTALL --build --library=celaref.buildbin-libdir celaref_1.18.0.tar.gz StartedAt: 2023-10-16 08:32:47 -0400 (Mon, 16 Oct 2023) EndedAt: 2023-10-16 08:33:21 -0400 (Mon, 16 Oct 2023) EllapsedTime: 34.4 seconds RetCode: 0 Status: OK PackageFile: celaref_1.18.0.zip PackageFileSize: 2.058 MiB