Package: celaref Version: 1.18.0 Command: /home/biocbuild/bbs-3.17-bioc/R/bin/R CMD INSTALL celaref StartedAt: 2023-10-15 15:15:11 -0400 (Sun, 15 Oct 2023) EndedAt: 2023-10-15 15:15:40 -0400 (Sun, 15 Oct 2023) EllapsedTime: 29.5 seconds RetCode: 0 Status: OK