Package: celaref Version: 1.18.0 Command: /home/biocbuild/bbs-3.17-bioc/R/bin/R CMD check --install=check:celaref.install-out.txt --library=/home/biocbuild/bbs-3.17-bioc/R/site-library --timings celaref_1.18.0.tar.gz StartedAt: 2023-10-15 19:54:29 -0400 (Sun, 15 Oct 2023) EndedAt: 2023-10-15 20:00:53 -0400 (Sun, 15 Oct 2023) EllapsedTime: 384.6 seconds RetCode: 0 Status: OK CheckDir: celaref.Rcheck Warnings: 0