Package: celaref Version: 1.18.0 Command: /Library/Frameworks/R.framework/Resources/bin/R CMD INSTALL celaref StartedAt: 2023-10-15 15:19:21 -0400 (Sun, 15 Oct 2023) EndedAt: 2023-10-15 15:20:30 -0400 (Sun, 15 Oct 2023) EllapsedTime: 68.4 seconds RetCode: 0 Status: OK