Package: ceRNAnetsim Version: 1.12.0 Command: rm -rf ceRNAnetsim.buildbin-libdir && mkdir ceRNAnetsim.buildbin-libdir && F:\biocbuild\bbs-3.17-bioc\R\bin\R.exe CMD INSTALL --build --library=ceRNAnetsim.buildbin-libdir ceRNAnetsim_1.12.0.tar.gz StartedAt: 2023-10-16 08:33:25 -0400 (Mon, 16 Oct 2023) EndedAt: 2023-10-16 08:33:35 -0400 (Mon, 16 Oct 2023) EllapsedTime: 10.5 seconds RetCode: 0 Status: OK PackageFile: ceRNAnetsim_1.12.0.zip PackageFileSize: 2.359 MiB