Package: ceRNAnetsim Version: 1.12.0 Command: /home/biocbuild/bbs-3.17-bioc/R/bin/R CMD check --install=check:ceRNAnetsim.install-out.txt --library=/home/biocbuild/bbs-3.17-bioc/R/site-library --timings ceRNAnetsim_1.12.0.tar.gz StartedAt: 2023-10-15 19:58:33 -0400 (Sun, 15 Oct 2023) EndedAt: 2023-10-15 20:04:39 -0400 (Sun, 15 Oct 2023) EllapsedTime: 365.8 seconds RetCode: 0 Status: OK CheckDir: ceRNAnetsim.Rcheck Warnings: 0