Package: ccmap Version: 1.26.0 Command: rm -rf ccmap.buildbin-libdir && mkdir ccmap.buildbin-libdir && F:\biocbuild\bbs-3.17-bioc\R\bin\R.exe CMD INSTALL --build --library=ccmap.buildbin-libdir ccmap_1.26.0.tar.gz StartedAt: 2023-10-16 08:32:34 -0400 (Mon, 16 Oct 2023) EndedAt: 2023-10-16 08:32:56 -0400 (Mon, 16 Oct 2023) EllapsedTime: 21.5 seconds RetCode: 0 Status: OK PackageFile: ccmap_1.26.0.zip PackageFileSize: 424.9 KiB