Package: ccmap Version: 1.26.0 Command: /home/biocbuild/bbs-3.17-bioc/R/bin/R CMD INSTALL ccmap StartedAt: 2023-10-15 15:16:08 -0400 (Sun, 15 Oct 2023) EndedAt: 2023-10-15 15:16:24 -0400 (Sun, 15 Oct 2023) EllapsedTime: 16.2 seconds RetCode: 0 Status: OK