Package: ccmap Version: 1.26.0 Command: /home/biocbuild/bbs-3.17-bioc/R/bin/R CMD build --keep-empty-dirs --no-resave-data ccmap StartedAt: 2023-10-15 16:12:54 -0400 (Sun, 15 Oct 2023) EndedAt: 2023-10-15 16:14:49 -0400 (Sun, 15 Oct 2023) EllapsedTime: 115.0 seconds RetCode: 0 Status: OK PackageFile: ccmap_1.26.0.tar.gz PackageFileSize: 444.3 KiB