Package: ccmap Version: 1.26.0 Command: /Library/Frameworks/R.framework/Resources/bin/R CMD build --keep-empty-dirs --no-resave-data ccmap StartedAt: 2023-10-15 17:15:39 -0400 (Sun, 15 Oct 2023) EndedAt: 2023-10-15 17:20:33 -0400 (Sun, 15 Oct 2023) EllapsedTime: 294.7 seconds RetCode: 0 Status: OK PackageFile: ccmap_1.26.0.tar.gz PackageFileSize: 444.2 KiB