Package: ccmap Version: 1.26.0 Command: rm -rf ccmap.buildbin-libdir && mkdir ccmap.buildbin-libdir && /Users/biocbuild/BBS/utils/build-universal.sh ccmap_1.26.0.tar.gz /Library/Frameworks/R.framework/Resources/bin/R ccmap.buildbin-libdir StartedAt: 2023-10-16 09:05:41 -0400 (Mon, 16 Oct 2023) EndedAt: 2023-10-16 09:06:35 -0400 (Mon, 16 Oct 2023) EllapsedTime: 54.8 seconds RetCode: 0 Status: OK PackageFile: ccmap_1.26.0.tgz PackageFileSize: 417.6 KiB