Package: ccfindR Version: 1.20.0 Command: /home/biocbuild/bbs-3.17-bioc/R/bin/R CMD check --install=check:ccfindR.install-out.txt --library=/home/biocbuild/bbs-3.17-bioc/R/site-library --timings ccfindR_1.20.0.tar.gz StartedAt: 2023-10-15 19:53:41 -0400 (Sun, 15 Oct 2023) EndedAt: 2023-10-15 19:59:37 -0400 (Sun, 15 Oct 2023) EllapsedTime: 355.9 seconds RetCode: 0 Status: OK CheckDir: ccfindR.Rcheck Warnings: 0