Package: ccfindR Version: 1.20.0 Command: /home/biocbuild/bbs-3.17-bioc/R/bin/R CMD build --keep-empty-dirs --no-resave-data ccfindR StartedAt: 2023-10-15 16:12:49 -0400 (Sun, 15 Oct 2023) EndedAt: 2023-10-15 16:16:17 -0400 (Sun, 15 Oct 2023) EllapsedTime: 207.9 seconds RetCode: 0 Status: OK PackageFile: ccfindR_1.20.0.tar.gz PackageFileSize: 1.074 MiB