Package: ccfindR Version: 1.20.0 Command: /Library/Frameworks/R.framework/Resources/bin/R CMD INSTALL ccfindR StartedAt: 2023-10-15 15:21:46 -0400 (Sun, 15 Oct 2023) EndedAt: 2023-10-15 15:21:50 -0400 (Sun, 15 Oct 2023) EllapsedTime: 3.4 seconds RetCode: 1 Status: ERROR