Package: ccfindR Version: 1.19.0 Command: /Library/Frameworks/R.framework/Resources/bin/R CMD check --install=check:ccfindR.install-out.txt --library=/Library/Frameworks/R.framework/Resources/library --no-vignettes --timings ccfindR_1.19.0.tar.gz StartedAt: 2023-04-13 23:23:35 -0400 (Thu, 13 Apr 2023) EndedAt: 2023-04-13 23:31:54 -0400 (Thu, 13 Apr 2023) EllapsedTime: 499.2 seconds RetCode: 0 Status: OK CheckDir: ccfindR.Rcheck Warnings: 0