Package: ccfindR Version: 1.19.0 Command: rm -rf ccfindR.buildbin-libdir && mkdir ccfindR.buildbin-libdir && /Users/biocbuild/BBS/utils/build-universal.sh ccfindR_1.19.0.tar.gz /Library/Frameworks/R.framework/Resources/bin/R ccfindR.buildbin-libdir StartedAt: 2023-04-14 08:42:25 -0400 (Fri, 14 Apr 2023) EndedAt: 2023-04-14 08:44:39 -0400 (Fri, 14 Apr 2023) EllapsedTime: 133.8 seconds RetCode: 0 Status: OK PackageFile: ccfindR_1.19.0.tgz PackageFileSize: 1.606 MiB