Package: cbpManager Version: 1.8.4 Command: chmod a+r cbpManager -R && F:\biocbuild\bbs-3.17-bioc\R\bin\R.exe CMD build --keep-empty-dirs --no-resave-data cbpManager StartedAt: 2023-10-15 17:56:08 -0400 (Sun, 15 Oct 2023) EndedAt: 2023-10-15 17:56:40 -0400 (Sun, 15 Oct 2023) EllapsedTime: 32.6 seconds RetCode: 0 Status: OK PackageFile: cbpManager_1.8.4.tar.gz PackageFileSize: 4.542 MiB