Package: cardelino Version: 1.2.0 Command: rm -rf cardelino.buildbin-libdir && mkdir cardelino.buildbin-libdir && F:\biocbuild\bbs-3.17-bioc\R\bin\R.exe CMD INSTALL --build --library=cardelino.buildbin-libdir cardelino_1.2.0.tar.gz StartedAt: 2023-10-16 08:31:49 -0400 (Mon, 16 Oct 2023) EndedAt: 2023-10-16 08:32:49 -0400 (Mon, 16 Oct 2023) EllapsedTime: 59.2 seconds RetCode: 0 Status: OK PackageFile: cardelino_1.2.0.zip PackageFileSize: 3.229 MiB