Package: cardelino Version: 1.2.0 Command: /home/biocbuild/bbs-3.17-bioc/R/bin/R CMD build --keep-empty-dirs --no-resave-data cardelino StartedAt: 2023-10-15 16:11:39 -0400 (Sun, 15 Oct 2023) EndedAt: 2023-10-15 16:13:00 -0400 (Sun, 15 Oct 2023) EllapsedTime: 80.7 seconds RetCode: 0 Status: OK PackageFile: cardelino_1.2.0.tar.gz PackageFileSize: 3.576 MiB