Package: cardelino Version: 1.2.0 Command: /Library/Frameworks/R.framework/Resources/bin/R CMD build --keep-empty-dirs --no-resave-data cardelino StartedAt: 2023-10-15 17:12:56 -0400 (Sun, 15 Oct 2023) EndedAt: 2023-10-15 17:16:05 -0400 (Sun, 15 Oct 2023) EllapsedTime: 189.5 seconds RetCode: 0 Status: OK PackageFile: cardelino_1.2.0.tar.gz PackageFileSize: 3.608 MiB