Package: cardelino Version: 1.2.0 Command: rm -rf cardelino.buildbin-libdir && mkdir cardelino.buildbin-libdir && /Users/biocbuild/BBS/utils/build-universal.sh cardelino_1.2.0.tar.gz /Library/Frameworks/R.framework/Resources/bin/R cardelino.buildbin-libdir StartedAt: 2023-10-16 09:05:16 -0400 (Mon, 16 Oct 2023) EndedAt: 2023-10-16 09:07:49 -0400 (Mon, 16 Oct 2023) EllapsedTime: 153.2 seconds RetCode: 0 Status: OK PackageFile: cardelino_1.2.0.tgz PackageFileSize: 3.742 MiB