Package: canceR Version: 1.34.0 Command: rm -rf canceR.buildbin-libdir && mkdir canceR.buildbin-libdir && /Users/biocbuild/BBS/utils/build-universal.sh canceR_1.34.0.tar.gz /Library/Frameworks/R.framework/Resources/bin/R canceR.buildbin-libdir StartedAt: 2023-10-16 09:05:02 -0400 (Mon, 16 Oct 2023) EndedAt: 2023-10-16 09:07:59 -0400 (Mon, 16 Oct 2023) EllapsedTime: 177.3 seconds RetCode: 0 Status: OK PackageFile: canceR_1.34.0.tgz PackageFileSize: 14.02 MiB