Package: cageminer Version: 1.6.2 Command: F:\biocbuild\bbs-3.17-bioc\R\bin\R.exe CMD INSTALL cageminer StartedAt: 2023-10-15 16:55:50 -0400 (Sun, 15 Oct 2023) EndedAt: 2023-10-15 16:56:53 -0400 (Sun, 15 Oct 2023) EllapsedTime: 62.9 seconds RetCode: 0 Status: OK