Package: cageminer Version: 1.6.2 Command: F:\biocbuild\bbs-3.17-bioc\R\bin\R.exe CMD check --no-multiarch --install=check:cageminer.install-out.txt --library=F:\biocbuild\bbs-3.17-bioc\R\library --no-vignettes --timings cageminer_1.6.2.tar.gz StartedAt: 2023-10-16 00:13:03 -0400 (Mon, 16 Oct 2023) EndedAt: 2023-10-16 00:19:40 -0400 (Mon, 16 Oct 2023) EllapsedTime: 397.9 seconds RetCode: 0 Status: OK CheckDir: cageminer.Rcheck Warnings: 0