Package: cageminer Version: 1.6.2 Command: chmod a+r cageminer -R && F:\biocbuild\bbs-3.17-bioc\R\bin\R.exe CMD build --keep-empty-dirs --no-resave-data cageminer StartedAt: 2023-10-15 17:52:14 -0400 (Sun, 15 Oct 2023) EndedAt: 2023-10-15 17:54:46 -0400 (Sun, 15 Oct 2023) EllapsedTime: 152.8 seconds RetCode: 0 Status: OK PackageFile: cageminer_1.6.2.tar.gz PackageFileSize: 879.4 KiB