Package: cageminer Version: 1.6.2 Command: rm -rf cageminer.buildbin-libdir && mkdir cageminer.buildbin-libdir && F:\biocbuild\bbs-3.17-bioc\R\bin\R.exe CMD INSTALL --build --library=cageminer.buildbin-libdir cageminer_1.6.2.tar.gz StartedAt: 2023-10-16 08:31:30 -0400 (Mon, 16 Oct 2023) EndedAt: 2023-10-16 08:32:33 -0400 (Mon, 16 Oct 2023) EllapsedTime: 62.5 seconds RetCode: 0 Status: OK PackageFile: cageminer_1.6.2.zip PackageFileSize: 914.5 KiB