Package: cageminer Version: 1.6.2 Command: /home/biocbuild/bbs-3.17-bioc/R/bin/R CMD check --install=check:cageminer.install-out.txt --library=/home/biocbuild/bbs-3.17-bioc/R/site-library --timings cageminer_1.6.2.tar.gz StartedAt: 2023-10-15 19:48:10 -0400 (Sun, 15 Oct 2023) EndedAt: 2023-10-15 19:56:23 -0400 (Sun, 15 Oct 2023) EllapsedTime: 493.1 seconds RetCode: 0 Status: OK CheckDir: cageminer.Rcheck Warnings: 0