Package: cageminer Version: 1.6.2 Command: /home/biocbuild/bbs-3.17-bioc/R/bin/R CMD build --keep-empty-dirs --no-resave-data cageminer StartedAt: 2023-10-15 16:10:42 -0400 (Sun, 15 Oct 2023) EndedAt: 2023-10-15 16:13:06 -0400 (Sun, 15 Oct 2023) EllapsedTime: 144.5 seconds RetCode: 0 Status: OK PackageFile: cageminer_1.6.2.tar.gz PackageFileSize: 1.195 MiB